BEGIN:VCALENDAR
VERSION:2.0
PRODID:-//FND Dimensions - ECPv6.15.20//NONSGML v1.0//EN
CALSCALE:GREGORIAN
METHOD:PUBLISH
X-ORIGINAL-URL:https://fnddimensions.org
X-WR-CALDESC:Events for FND Dimensions
REFRESH-INTERVAL;VALUE=DURATION:PT1H
X-Robots-Tag:noindex
X-PUBLISHED-TTL:PT1H
BEGIN:VTIMEZONE
TZID:Europe/London
BEGIN:DAYLIGHT
TZOFFSETFROM:+0000
TZOFFSETTO:+0100
TZNAME:BST
DTSTART:20250330T010000
END:DAYLIGHT
BEGIN:STANDARD
TZOFFSETFROM:+0100
TZOFFSETTO:+0000
TZNAME:GMT
DTSTART:20251026T010000
END:STANDARD
BEGIN:DAYLIGHT
TZOFFSETFROM:+0000
TZOFFSETTO:+0100
TZNAME:BST
DTSTART:20260329T010000
END:DAYLIGHT
BEGIN:STANDARD
TZOFFSETFROM:+0100
TZOFFSETTO:+0000
TZNAME:GMT
DTSTART:20261025T010000
END:STANDARD
BEGIN:DAYLIGHT
TZOFFSETFROM:+0000
TZOFFSETTO:+0100
TZNAME:BST
DTSTART:20270328T010000
END:DAYLIGHT
BEGIN:STANDARD
TZOFFSETFROM:+0100
TZOFFSETTO:+0000
TZNAME:GMT
DTSTART:20271031T010000
END:STANDARD
END:VTIMEZONE
BEGIN:VEVENT
DTSTART;TZID=Europe/London:20260303T130000
DTEND;TZID=Europe/London:20260303T143000
DTSTAMP:20260424T103212
CREATED:20260219T112926Z
LAST-MODIFIED:20260219T112926Z
UID:5081-1772542800-1772548200@fnddimensions.org
SUMMARY:Women's Drop In
DESCRIPTION:
URL:https://fnddimensions.org/event/womens-drop-in/
LOCATION:Online National\, United Kingdom
END:VEVENT
BEGIN:VEVENT
DTSTART;TZID=Europe/London:20260304T183000
DTEND;TZID=Europe/London:20260304T200000
DTSTAMP:20260424T103212
CREATED:20260219T113015Z
LAST-MODIFIED:20260219T113015Z
UID:5083-1772649000-1772654400@fnddimensions.org
SUMMARY:Book Club
DESCRIPTION:
URL:https://fnddimensions.org/event/book-club-21/
LOCATION:Online National\, United Kingdom
END:VEVENT
BEGIN:VEVENT
DTSTART;TZID=Europe/London:20260309T103000
DTEND;TZID=Europe/London:20260309T120000
DTSTAMP:20260424T103212
CREATED:20260219T113117Z
LAST-MODIFIED:20260219T113117Z
UID:5085-1773052200-1773057600@fnddimensions.org
SUMMARY:Drop-In Session
DESCRIPTION:
URL:https://fnddimensions.org/event/drop-in-session-19/
LOCATION:Online National\, United Kingdom
END:VEVENT
BEGIN:VEVENT
DTSTART;TZID=Europe/London:20260311T140000
DTEND;TZID=Europe/London:20260311T153000
DTSTAMP:20260424T103212
CREATED:20260219T113227Z
LAST-MODIFIED:20260219T113227Z
UID:5087-1773237600-1773243000@fnddimensions.org
SUMMARY:Journaling Workshop
DESCRIPTION:
URL:https://fnddimensions.org/event/journaling-workshop-4/
LOCATION:Online National\, United Kingdom
END:VEVENT
BEGIN:VEVENT
DTSTART;TZID=Europe/London:20260312T183000
DTEND;TZID=Europe/London:20260312T200000
DTSTAMP:20260424T103212
CREATED:20260219T113322Z
LAST-MODIFIED:20260219T113322Z
UID:5089-1773340200-1773345600@fnddimensions.org
SUMMARY:Coffee & Create
DESCRIPTION:
URL:https://fnddimensions.org/event/coffee-create-33/
LOCATION:Online National\, United Kingdom
END:VEVENT
BEGIN:VEVENT
DTSTART;TZID=Europe/London:20260316T183000
DTEND;TZID=Europe/London:20260316T200000
DTSTAMP:20260424T103212
CREATED:20260219T113415Z
LAST-MODIFIED:20260219T113415Z
UID:5091-1773685800-1773691200@fnddimensions.org
SUMMARY:LGBTQIA Group
DESCRIPTION:
URL:https://fnddimensions.org/event/lgbtqia-group/
LOCATION:Online National\, United Kingdom
END:VEVENT
BEGIN:VEVENT
DTSTART;TZID=Europe/London:20260318T183000
DTEND;TZID=Europe/London:20260318T200000
DTSTAMP:20260424T103212
CREATED:20260219T113523Z
LAST-MODIFIED:20260219T113523Z
UID:5093-1773858600-1773864000@fnddimensions.org
SUMMARY:Step by Step
DESCRIPTION:
URL:https://fnddimensions.org/event/step-by-step-22/
LOCATION:Online National\, United Kingdom
END:VEVENT
BEGIN:VEVENT
DTSTART;TZID=Europe/London:20260319T183000
DTEND;TZID=Europe/London:20260319T200000
DTSTAMP:20260424T103212
CREATED:20260219T113626Z
LAST-MODIFIED:20260219T113626Z
UID:5095-1773945000-1773950400@fnddimensions.org
SUMMARY:Colour with Dimensions
DESCRIPTION:
URL:https://fnddimensions.org/event/colour-with-dimensions-4/
LOCATION:Online National\, United Kingdom
END:VEVENT
BEGIN:VEVENT
DTSTART;TZID=Europe/London:20260323T183000
DTEND;TZID=Europe/London:20260323T200000
DTSTAMP:20260424T103212
CREATED:20260219T113720Z
LAST-MODIFIED:20260219T113720Z
UID:5097-1774290600-1774296000@fnddimensions.org
SUMMARY:Drop-In Session
DESCRIPTION:
URL:https://fnddimensions.org/event/drop-in-session-20/
LOCATION:Online National\, United Kingdom
END:VEVENT
BEGIN:VEVENT
DTSTART;TZID=Europe/London:20260323T183000
DTEND;TZID=Europe/London:20260323T203000
DTSTAMP:20260424T103212
CREATED:20251119T153937Z
LAST-MODIFIED:20251119T153937Z
UID:4964-1774290600-1774297800@fnddimensions.org
SUMMARY:Board Meeting March 2026
DESCRIPTION:Monthly Board Meeting \nThis is only for Board Members.
URL:https://fnddimensions.org/event/board-meeting-march-2026/
LOCATION:Online National\, United Kingdom
END:VEVENT
BEGIN:VEVENT
DTSTART;TZID=Europe/London:20260324T183000
DTEND;TZID=Europe/London:20260324T200000
DTSTAMP:20260424T103212
CREATED:20260219T113816Z
LAST-MODIFIED:20260219T113816Z
UID:5099-1774377000-1774382400@fnddimensions.org
SUMMARY:Men's Drop-In
DESCRIPTION:
URL:https://fnddimensions.org/event/mens-drop-in/
LOCATION:Online National\, United Kingdom
END:VEVENT
BEGIN:VEVENT
DTSTART;TZID=Europe/London:20260325T103000
DTEND;TZID=Europe/London:20260325T170000
DTSTAMP:20260424T103212
CREATED:20260219T113914Z
LAST-MODIFIED:20260219T113914Z
UID:5101-1774434600-1774458000@fnddimensions.org
SUMMARY:UK FND Awareness Day
DESCRIPTION:
URL:https://fnddimensions.org/event/uk-fnd-awareness-day/
LOCATION:Online National\, United Kingdom
END:VEVENT
BEGIN:VEVENT
DTSTART;TZID=Europe/London:20260327T103000
DTEND;TZID=Europe/London:20260327T120000
DTSTAMP:20260424T103212
CREATED:20260219T114004Z
LAST-MODIFIED:20260219T114004Z
UID:5103-1774607400-1774612800@fnddimensions.org
SUMMARY:Coffee & Create
DESCRIPTION:
URL:https://fnddimensions.org/event/coffee-create-34/
LOCATION:Online National\, United Kingdom
END:VEVENT
END:VCALENDAR